BEGIN:VCALENDAR
VERSION:2.0
PRODID:-// - ECPv6.15.18//NONSGML v1.0//EN
CALSCALE:GREGORIAN
METHOD:PUBLISH
X-ORIGINAL-URL:https://fallsoftheohio.org
X-WR-CALDESC:Events for 
REFRESH-INTERVAL;VALUE=DURATION:PT1H
X-Robots-Tag:noindex
X-PUBLISHED-TTL:PT1H
BEGIN:VTIMEZONE
TZID:America/Indiana/Indianapolis
BEGIN:DAYLIGHT
TZOFFSETFROM:-0500
TZOFFSETTO:-0400
TZNAME:EDT
DTSTART:20250309T070000
END:DAYLIGHT
BEGIN:STANDARD
TZOFFSETFROM:-0400
TZOFFSETTO:-0500
TZNAME:EST
DTSTART:20251102T060000
END:STANDARD
BEGIN:DAYLIGHT
TZOFFSETFROM:-0500
TZOFFSETTO:-0400
TZNAME:EDT
DTSTART:20260308T070000
END:DAYLIGHT
BEGIN:STANDARD
TZOFFSETFROM:-0400
TZOFFSETTO:-0500
TZNAME:EST
DTSTART:20261101T060000
END:STANDARD
BEGIN:DAYLIGHT
TZOFFSETFROM:-0500
TZOFFSETTO:-0400
TZNAME:EDT
DTSTART:20270314T070000
END:DAYLIGHT
BEGIN:STANDARD
TZOFFSETFROM:-0400
TZOFFSETTO:-0500
TZNAME:EST
DTSTART:20271107T060000
END:STANDARD
END:VTIMEZONE
BEGIN:VEVENT
DTSTART;TZID=America/Indiana/Indianapolis:20260124T140000
DTEND;TZID=America/Indiana/Indianapolis:20260124T150000
DTSTAMP:20260419T095449
CREATED:20251215T163108Z
LAST-MODIFIED:20251215T163110Z
UID:14618-1769263200-1769266800@fallsoftheohio.org
SUMMARY:The History of teeth - Family Nature Club
DESCRIPTION:Have you ever wondered why animals developed teeth? Why the shapes and sizes of teeth were different before the teeth of today? Join one of our Naturalists at Heart\, a retired dentist\, as we explore the history and evolution of teeth.  This program is suitable for all ages\, but younger kids will have an activity they can play to win a fossil shark tooth.  This free program will meet in the Rotunda.
URL:https://fallsoftheohio.org/our-event/the-history-of-teeth-family-nature-club-2/
LOCATION:Falls of the Ohio State Park\, 201 W. Riverside Drive\, Clarksville\, IN\, 47129\, United States
CATEGORIES:State Park
ATTACH;FMTTYPE=image/jpeg:https://fallsoftheohio.org/wp-content/uploads/2025/07/Stan-Dunn-fossil-teeth-1-26-19-1024.jpg
ORGANIZER;CN="Falls of the Ohio State Park":MAILTO:agoldstein@dnr.in.gov
END:VEVENT
END:VCALENDAR