BEGIN:VCALENDAR
VERSION:2.0
PRODID:-// - ECPv6.15.18//NONSGML v1.0//EN
CALSCALE:GREGORIAN
METHOD:PUBLISH
X-ORIGINAL-URL:https://fallsoftheohio.org
X-WR-CALDESC:Events for 
REFRESH-INTERVAL;VALUE=DURATION:PT1H
X-Robots-Tag:noindex
X-PUBLISHED-TTL:PT1H
BEGIN:VTIMEZONE
TZID:America/Indiana/Indianapolis
BEGIN:DAYLIGHT
TZOFFSETFROM:-0500
TZOFFSETTO:-0400
TZNAME:EDT
DTSTART:20250309T070000
END:DAYLIGHT
BEGIN:STANDARD
TZOFFSETFROM:-0400
TZOFFSETTO:-0500
TZNAME:EST
DTSTART:20251102T060000
END:STANDARD
BEGIN:DAYLIGHT
TZOFFSETFROM:-0500
TZOFFSETTO:-0400
TZNAME:EDT
DTSTART:20260308T070000
END:DAYLIGHT
BEGIN:STANDARD
TZOFFSETFROM:-0400
TZOFFSETTO:-0500
TZNAME:EST
DTSTART:20261101T060000
END:STANDARD
BEGIN:DAYLIGHT
TZOFFSETFROM:-0500
TZOFFSETTO:-0400
TZNAME:EDT
DTSTART:20270314T070000
END:DAYLIGHT
BEGIN:STANDARD
TZOFFSETFROM:-0400
TZOFFSETTO:-0500
TZNAME:EST
DTSTART:20271107T060000
END:STANDARD
END:VTIMEZONE
BEGIN:VEVENT
DTSTART;TZID=America/Indiana/Indianapolis:20260117T140000
DTEND;TZID=America/Indiana/Indianapolis:20260117T150000
DTSTAMP:20260419T095456
CREATED:20251215T162547Z
LAST-MODIFIED:20251215T162549Z
UID:14616-1768658400-1768662000@fallsoftheohio.org
SUMMARY:Saving America's Largest Salamander - The Hellbender
DESCRIPTION:Indiana is home to America’s largest salamander\, called the Hellbender. It is only found in one Indiana river – the Blue River in Harrison County. Come and learn about this amazing aquatic animal\, what makes it special\, and what you can do to keep its habitat clean. This hands-on program will cover its adaptations\, how water pollution affects it\, and how amphibians have changed over geological time using a life-size model of Ichthyostega\, the oldest amphibian in the fossil record.  This is a  free program that will meet in the bird room.
URL:https://fallsoftheohio.org/our-event/saving-americas-largest-salamander-the-hellbender-5/
LOCATION:Falls of the Ohio State Park\, 201 W. Riverside Drive\, Clarksville\, IN\, 47129\, United States
CATEGORIES:State Park
ATTACH;FMTTYPE=image/jpeg:https://fallsoftheohio.org/wp-content/uploads/2025/11/hellbender1_Full_KMS-1.jpg
ORGANIZER;CN="Nicholas Feltner":MAILTO:nfeltner@dnr.in.gov
END:VEVENT
END:VCALENDAR