BEGIN:VCALENDAR
VERSION:2.0
PRODID:-// - ECPv6.15.18//NONSGML v1.0//EN
CALSCALE:GREGORIAN
METHOD:PUBLISH
X-ORIGINAL-URL:https://fallsoftheohio.org
X-WR-CALDESC:Events for 
REFRESH-INTERVAL;VALUE=DURATION:PT1H
X-Robots-Tag:noindex
X-PUBLISHED-TTL:PT1H
BEGIN:VTIMEZONE
TZID:UTC
BEGIN:STANDARD
TZOFFSETFROM:+0000
TZOFFSETTO:+0000
TZNAME:UTC
DTSTART:20240101T000000
END:STANDARD
END:VTIMEZONE
BEGIN:VEVENT
DTSTART;TZID=UTC:20251228T140000
DTEND;TZID=UTC:20251228T150000
DTSTAMP:20260419T163758
CREATED:20251126T185406Z
LAST-MODIFIED:20251126T185409Z
UID:14502-1766930400-1766934000@fallsoftheohio.org
SUMMARY:Make a Nature Party Hat - Art at Falls
DESCRIPTION:Are your children having their own New Year’s Eve celebration at home? Come to our special year-end Art at the Falls program and decorate a New Year’s Eve party hat with natural materials. Special time 2 to 3 PM. Artist Mike Gibson will lead this activity. The $2 program fee is covered by a Falls of the Ohio Foundation grant. No reservation needed.
URL:https://fallsoftheohio.org/our-event/make-a-nature-party-hat-art-at-falls-2/
LOCATION:Falls of the Ohio State Park\, 201 W. Riverside Drive\, Clarksville\, IN\, 47129\, United States
CATEGORIES:State Park
ATTACH;FMTTYPE=image/jpeg:https://fallsoftheohio.org/wp-content/uploads/2025/11/Party-Hats.jpg
END:VEVENT
END:VCALENDAR