BEGIN:VCALENDAR
VERSION:2.0
PRODID:-// - ECPv6.15.18//NONSGML v1.0//EN
CALSCALE:GREGORIAN
METHOD:PUBLISH
X-ORIGINAL-URL:https://fallsoftheohio.org
X-WR-CALDESC:Events for 
REFRESH-INTERVAL;VALUE=DURATION:PT1H
X-Robots-Tag:noindex
X-PUBLISHED-TTL:PT1H
BEGIN:VTIMEZONE
TZID:America/Indiana/Indianapolis
BEGIN:DAYLIGHT
TZOFFSETFROM:-0500
TZOFFSETTO:-0400
TZNAME:EDT
DTSTART:20240310T070000
END:DAYLIGHT
BEGIN:STANDARD
TZOFFSETFROM:-0400
TZOFFSETTO:-0500
TZNAME:EST
DTSTART:20241103T060000
END:STANDARD
BEGIN:DAYLIGHT
TZOFFSETFROM:-0500
TZOFFSETTO:-0400
TZNAME:EDT
DTSTART:20250309T070000
END:DAYLIGHT
BEGIN:STANDARD
TZOFFSETFROM:-0400
TZOFFSETTO:-0500
TZNAME:EST
DTSTART:20251102T060000
END:STANDARD
BEGIN:DAYLIGHT
TZOFFSETFROM:-0500
TZOFFSETTO:-0400
TZNAME:EDT
DTSTART:20260308T070000
END:DAYLIGHT
BEGIN:STANDARD
TZOFFSETFROM:-0400
TZOFFSETTO:-0500
TZNAME:EST
DTSTART:20261101T060000
END:STANDARD
END:VTIMEZONE
BEGIN:VEVENT
DTSTART;TZID=America/Indiana/Indianapolis:20251214T150000
DTEND;TZID=America/Indiana/Indianapolis:20251214T160000
DTSTAMP:20260420T164840
CREATED:20251126T182906Z
LAST-MODIFIED:20251126T184657Z
UID:14487-1765724400-1765728000@fallsoftheohio.org
SUMMARY:Elf on a Shell
DESCRIPTION:Using acorns and twigs\, dressed in colorful cloth\, participants will make ornaments with a seashell base.  Guided by artist Mike Gibson.  Meets in the rotunda. $2 program fee covered by a grant from the Falls of the Ohio Foundation.
URL:https://fallsoftheohio.org/our-event/elf-on-a-shell/
LOCATION:IN
CATEGORIES:State Park
ATTACH;FMTTYPE=image/jpeg:https://fallsoftheohio.org/wp-content/uploads/2025/11/Natural-Ornaments-1.jpg
END:VEVENT
END:VCALENDAR