BEGIN:VCALENDAR
VERSION:2.0
PRODID:-// - ECPv6.15.18//NONSGML v1.0//EN
CALSCALE:GREGORIAN
METHOD:PUBLISH
X-ORIGINAL-URL:https://fallsoftheohio.org
X-WR-CALDESC:Events for 
REFRESH-INTERVAL;VALUE=DURATION:PT1H
X-Robots-Tag:noindex
X-PUBLISHED-TTL:PT1H
BEGIN:VTIMEZONE
TZID:America/Indiana/Indianapolis
BEGIN:DAYLIGHT
TZOFFSETFROM:-0500
TZOFFSETTO:-0400
TZNAME:EDT
DTSTART:20240310T070000
END:DAYLIGHT
BEGIN:STANDARD
TZOFFSETFROM:-0400
TZOFFSETTO:-0500
TZNAME:EST
DTSTART:20241103T060000
END:STANDARD
BEGIN:DAYLIGHT
TZOFFSETFROM:-0500
TZOFFSETTO:-0400
TZNAME:EDT
DTSTART:20250309T070000
END:DAYLIGHT
BEGIN:STANDARD
TZOFFSETFROM:-0400
TZOFFSETTO:-0500
TZNAME:EST
DTSTART:20251102T060000
END:STANDARD
BEGIN:DAYLIGHT
TZOFFSETFROM:-0500
TZOFFSETTO:-0400
TZNAME:EDT
DTSTART:20260308T070000
END:DAYLIGHT
BEGIN:STANDARD
TZOFFSETFROM:-0400
TZOFFSETTO:-0500
TZNAME:EST
DTSTART:20261101T060000
END:STANDARD
END:VTIMEZONE
BEGIN:VEVENT
DTSTART;TZID=America/Indiana/Indianapolis:20251123T150000
DTEND;TZID=America/Indiana/Indianapolis:20251123T160000
DTSTAMP:20260422T083259
CREATED:20251110T175157Z
LAST-MODIFIED:20251110T175200Z
UID:14331-1763910000-1763913600@fallsoftheohio.org
SUMMARY:Horn Coral Copia - Art at the Falls
DESCRIPTION:The cornucopia represents the fruitful harvest. Some fossil horn corals have a similar shape. You’re going to combine these to make a small “horn coralcopia” to take home. Guide by artist Mike Gibson. Meets in the rotunda. $2 program fee covered by Falls of the Ohio Foundation grant.
URL:https://fallsoftheohio.org/our-event/horn-coral-copia-art-at-the-falls/
LOCATION:Falls of the Ohio State Park\, 201 W. Riverside Drive\, Clarksville\, IN\, 47129\, United States
CATEGORIES:State Park
ATTACH;FMTTYPE=image/jpeg:https://fallsoftheohio.org/wp-content/uploads/2025/11/Thanksgiving-cornucopia_1.jpg
ORGANIZER;CN="Nicholas Feltner":MAILTO:nfeltner@dnr.in.gov
END:VEVENT
END:VCALENDAR