BEGIN:VCALENDAR
VERSION:2.0
PRODID:-// - ECPv6.15.18//NONSGML v1.0//EN
CALSCALE:GREGORIAN
METHOD:PUBLISH
X-ORIGINAL-URL:https://fallsoftheohio.org
X-WR-CALDESC:Events for 
REFRESH-INTERVAL;VALUE=DURATION:PT1H
X-Robots-Tag:noindex
X-PUBLISHED-TTL:PT1H
BEGIN:VTIMEZONE
TZID:America/Indiana/Indianapolis
BEGIN:DAYLIGHT
TZOFFSETFROM:-0500
TZOFFSETTO:-0400
TZNAME:EDT
DTSTART:20240310T070000
END:DAYLIGHT
BEGIN:STANDARD
TZOFFSETFROM:-0400
TZOFFSETTO:-0500
TZNAME:EST
DTSTART:20241103T060000
END:STANDARD
BEGIN:DAYLIGHT
TZOFFSETFROM:-0500
TZOFFSETTO:-0400
TZNAME:EDT
DTSTART:20250309T070000
END:DAYLIGHT
BEGIN:STANDARD
TZOFFSETFROM:-0400
TZOFFSETTO:-0500
TZNAME:EST
DTSTART:20251102T060000
END:STANDARD
BEGIN:DAYLIGHT
TZOFFSETFROM:-0500
TZOFFSETTO:-0400
TZNAME:EDT
DTSTART:20260308T070000
END:DAYLIGHT
BEGIN:STANDARD
TZOFFSETFROM:-0400
TZOFFSETTO:-0500
TZNAME:EST
DTSTART:20261101T060000
END:STANDARD
END:VTIMEZONE
BEGIN:VEVENT
DTSTART;TZID=America/Indiana/Indianapolis:20251109T150000
DTEND;TZID=America/Indiana/Indianapolis:20251109T160000
DTSTAMP:20260423T055623
CREATED:20251030T172401Z
LAST-MODIFIED:20251030T172404Z
UID:14192-1762700400-1762704000@fallsoftheohio.org
SUMMARY:Dinosaurs\, Gosh Dung It!
DESCRIPTION:Coprolites are a paleontological curiosity. How can dinosaur droppings be preserved as fossils? Many animal droppings are preserved in the fossil record. Learn about this unusual and important trace fossil from Dale Brown\, a local amateur paleontologist and park volunteer. Meets in the rotunda. Free program.
URL:https://fallsoftheohio.org/our-event/dinosaurs-gosh-dung-it/
LOCATION:Falls of the Ohio State Park\, 201 W. Riverside Drive\, Clarksville\, IN\, 47129\, United States
CATEGORIES:State Park
ATTACH;FMTTYPE=image/jpeg:https://fallsoftheohio.org/wp-content/uploads/2025/10/Dale-Brown-Six-Fossils-program-3-30-24-1024.jpg
ORGANIZER;CN="Nick Feltner":MAILTO:nfeltner@dnr.in.gov
END:VEVENT
END:VCALENDAR