BEGIN:VCALENDAR
VERSION:2.0
PRODID:-// - ECPv6.15.18//NONSGML v1.0//EN
CALSCALE:GREGORIAN
METHOD:PUBLISH
X-ORIGINAL-URL:https://fallsoftheohio.org
X-WR-CALDESC:Events for 
REFRESH-INTERVAL;VALUE=DURATION:PT1H
X-Robots-Tag:noindex
X-PUBLISHED-TTL:PT1H
BEGIN:VTIMEZONE
TZID:America/Indiana/Indianapolis
BEGIN:DAYLIGHT
TZOFFSETFROM:-0500
TZOFFSETTO:-0400
TZNAME:EDT
DTSTART:20240310T070000
END:DAYLIGHT
BEGIN:STANDARD
TZOFFSETFROM:-0400
TZOFFSETTO:-0500
TZNAME:EST
DTSTART:20241103T060000
END:STANDARD
BEGIN:DAYLIGHT
TZOFFSETFROM:-0500
TZOFFSETTO:-0400
TZNAME:EDT
DTSTART:20250309T070000
END:DAYLIGHT
BEGIN:STANDARD
TZOFFSETFROM:-0400
TZOFFSETTO:-0500
TZNAME:EST
DTSTART:20251102T060000
END:STANDARD
BEGIN:DAYLIGHT
TZOFFSETFROM:-0500
TZOFFSETTO:-0400
TZNAME:EDT
DTSTART:20260308T070000
END:DAYLIGHT
BEGIN:STANDARD
TZOFFSETFROM:-0400
TZOFFSETTO:-0500
TZNAME:EST
DTSTART:20261101T060000
END:STANDARD
END:VTIMEZONE
BEGIN:VEVENT
DTSTART;TZID=America/Indiana/Indianapolis:20251108T130000
DTEND;TZID=America/Indiana/Indianapolis:20251108T140000
DTSTAMP:20260423T073233
CREATED:20251030T172446Z
LAST-MODIFIED:20251030T172449Z
UID:14180-1762606800-1762610400@fallsoftheohio.org
SUMMARY:Lewis & Clark Junior Ranger Program
DESCRIPTION:As an official stop on the Lewis & Clark National Historic Trail\, we offer the National Park’s Lewis & Clark Junior Ranger program. It comes with a J. R. activity booklet\, and participants (geared for age 7 to 13) will get a Junior Ranger pin after filling the activity booklet out.  Cost $2.00 per participant covered by a grant by the Falls of the Ohio Foundation. Meets in the classroom.
URL:https://fallsoftheohio.org/our-event/lewis-clark-junior-ranger-program-13/
LOCATION:Falls of the Ohio State Park\, 201 W. Riverside Drive\, Clarksville\, IN\, 47129\, United States
CATEGORIES:State Park
ATTACH;FMTTYPE=image/jpeg:https://fallsoftheohio.org/wp-content/uploads/2025/10/Junior-Ranger-program-9-14-24-2000.jpg
ORGANIZER;CN="Alan Goldstein":MAILTO:agoldstein@dnr.in.gov
END:VEVENT
BEGIN:VEVENT
DTSTART;TZID=America/Indiana/Indianapolis:20251108T130000
DTEND;TZID=America/Indiana/Indianapolis:20251108T150000
DTSTAMP:20260423T073233
CREATED:20251030T172424Z
LAST-MODIFIED:20251030T172427Z
UID:14174-1762606800-1762614000@fallsoftheohio.org
SUMMARY:The Last Afternoon with Alan
DESCRIPTION:After 31 years\, interpretive naturalist and park paleontologist is hanging up his uniform and retiring from the Falls of the Ohio State Park at the end of the day. This is your last opportunity to bring in rocks and fossils for identification or ask questions about geology & fossils. He will share memories from his time here.
URL:https://fallsoftheohio.org/our-event/the-last-afternoon-with-alan/
LOCATION:Falls of the Ohio State Park\, 201 W. Riverside Drive\, Clarksville\, IN\, 47129\, United States
CATEGORIES:State Park
ATTACH;FMTTYPE=image/jpeg:https://fallsoftheohio.org/wp-content/uploads/2025/10/Alan-Goldstein-fossil-ID-best-2000-1.jpg
ORGANIZER;CN="Alan Goldstein":MAILTO:agoldstein@dnr.in.gov
END:VEVENT
END:VCALENDAR