BEGIN:VCALENDAR
VERSION:2.0
PRODID:-// - ECPv6.15.18//NONSGML v1.0//EN
CALSCALE:GREGORIAN
METHOD:PUBLISH
X-ORIGINAL-URL:https://fallsoftheohio.org
X-WR-CALDESC:Events for 
REFRESH-INTERVAL;VALUE=DURATION:PT1H
X-Robots-Tag:noindex
X-PUBLISHED-TTL:PT1H
BEGIN:VTIMEZONE
TZID:America/Indiana/Indianapolis
BEGIN:DAYLIGHT
TZOFFSETFROM:-0500
TZOFFSETTO:-0400
TZNAME:EDT
DTSTART:20240310T070000
END:DAYLIGHT
BEGIN:STANDARD
TZOFFSETFROM:-0400
TZOFFSETTO:-0500
TZNAME:EST
DTSTART:20241103T060000
END:STANDARD
BEGIN:DAYLIGHT
TZOFFSETFROM:-0500
TZOFFSETTO:-0400
TZNAME:EDT
DTSTART:20250309T070000
END:DAYLIGHT
BEGIN:STANDARD
TZOFFSETFROM:-0400
TZOFFSETTO:-0500
TZNAME:EST
DTSTART:20251102T060000
END:STANDARD
BEGIN:DAYLIGHT
TZOFFSETFROM:-0500
TZOFFSETTO:-0400
TZNAME:EDT
DTSTART:20260308T070000
END:DAYLIGHT
BEGIN:STANDARD
TZOFFSETFROM:-0400
TZOFFSETTO:-0500
TZNAME:EST
DTSTART:20261101T060000
END:STANDARD
END:VTIMEZONE
BEGIN:VEVENT
DTSTART;TZID=America/Indiana/Indianapolis:20251102T150000
DTEND;TZID=America/Indiana/Indianapolis:20251102T160000
DTSTAMP:20260423T171816
CREATED:20251030T172526Z
LAST-MODIFIED:20251030T172530Z
UID:14162-1762095600-1762099200@fallsoftheohio.org
SUMMARY:Shell in a Handbasket
DESCRIPTION:Join volunteer naturalist Nick Feltner as he goes through a basket of fascinating fossil and modern snail shells. How has the life history of gastropods changed over time? What are differences between their shapes?  We will explore the unusual adaptations of current snails using beautiful specimens recently acquired from the Kentucky Science Center’s collection. Free Program in the rotunda.
URL:https://fallsoftheohio.org/our-event/shell-in-a-handbasket-3/
LOCATION:Falls of the Ohio State Park\, 201 W. Riverside Drive\, Clarksville\, IN\, 47129\, United States
CATEGORIES:State Park
ATTACH;FMTTYPE=image/jpeg:https://fallsoftheohio.org/wp-content/uploads/2025/10/Shells-in-box-1024.jpg
ORGANIZER;CN="Falls of the Ohio":MAILTO:agoldstein@dnr.in.gov
END:VEVENT
END:VCALENDAR