BEGIN:VCALENDAR
VERSION:2.0
PRODID:-// - ECPv6.15.18//NONSGML v1.0//EN
CALSCALE:GREGORIAN
METHOD:PUBLISH
X-ORIGINAL-URL:https://fallsoftheohio.org
X-WR-CALDESC:Events for 
REFRESH-INTERVAL;VALUE=DURATION:PT1H
X-Robots-Tag:noindex
X-PUBLISHED-TTL:PT1H
BEGIN:VTIMEZONE
TZID:America/Indiana/Indianapolis
BEGIN:DAYLIGHT
TZOFFSETFROM:-0500
TZOFFSETTO:-0400
TZNAME:EDT
DTSTART:20240310T070000
END:DAYLIGHT
BEGIN:STANDARD
TZOFFSETFROM:-0400
TZOFFSETTO:-0500
TZNAME:EST
DTSTART:20241103T060000
END:STANDARD
BEGIN:DAYLIGHT
TZOFFSETFROM:-0500
TZOFFSETTO:-0400
TZNAME:EDT
DTSTART:20250309T070000
END:DAYLIGHT
BEGIN:STANDARD
TZOFFSETFROM:-0400
TZOFFSETTO:-0500
TZNAME:EST
DTSTART:20251102T060000
END:STANDARD
BEGIN:DAYLIGHT
TZOFFSETFROM:-0500
TZOFFSETTO:-0400
TZNAME:EDT
DTSTART:20260308T070000
END:DAYLIGHT
BEGIN:STANDARD
TZOFFSETFROM:-0400
TZOFFSETTO:-0500
TZNAME:EST
DTSTART:20261101T060000
END:STANDARD
END:VTIMEZONE
BEGIN:VEVENT
DTSTART;TZID=America/Indiana/Indianapolis:20251006T160000
DTEND;TZID=America/Indiana/Indianapolis:20251006T180000
DTSTAMP:20260419T100716
CREATED:20250929T170238Z
LAST-MODIFIED:20250929T170240Z
UID:13951-1759766400-1759773600@fallsoftheohio.org
SUMMARY:Falls of the Ohio Member Mondays at GoodBounce Clarksville
DESCRIPTION:Falls of Ohio Community Pickleball Social at GoodBounce Pickleball in Clarksville on the 1st and 3rd Monday of the month. Come on out and enjoy some pickleball with your community! Have fun\, meet new people\, and unwind with a refreshing beverage—it’s the perfect way to cap off your day. Play will follow a four-on\, four-off format\, divided by levels to keep it fun and competitive for everyone. Whether you’re here for the friendly competition\, exercise\, or just the social side of things\, this event is for you. Registration is recommended\, so be sure to sign up in advance. Join us for an evening of fun on the court and connection off the court! $10.00 for two hours of play. \n\n\n\nRegistration is recommended at https://www.goodbounce.com/programs/falls-of-the-ohio   \n\n\n\nFalls Members can use code FOTO for 10% off.
URL:https://fallsoftheohio.org/our-event/falls-of-the-ohio-member-mondays-at-goodbounce-clarksville/
LOCATION:GoodBounce Pickleball Court Clarksville\, 1220 Main St\, Clarksville\, Indiana\, 47129\, United States
CATEGORIES:Foundation
ATTACH;FMTTYPE=image/png:https://fallsoftheohio.org/wp-content/uploads/2025/09/Blue-Retro-Pickleball-Tournament-Event-Flyer1.png
END:VEVENT
END:VCALENDAR