BEGIN:VCALENDAR
VERSION:2.0
PRODID:-// - ECPv6.15.18//NONSGML v1.0//EN
CALSCALE:GREGORIAN
METHOD:PUBLISH
X-ORIGINAL-URL:https://fallsoftheohio.org
X-WR-CALDESC:Events for 
REFRESH-INTERVAL;VALUE=DURATION:PT1H
X-Robots-Tag:noindex
X-PUBLISHED-TTL:PT1H
BEGIN:VTIMEZONE
TZID:UTC
BEGIN:STANDARD
TZOFFSETFROM:+0000
TZOFFSETTO:+0000
TZNAME:UTC
DTSTART:20240101T000000
END:STANDARD
END:VTIMEZONE
BEGIN:VTIMEZONE
TZID:America/Indiana/Indianapolis
BEGIN:DAYLIGHT
TZOFFSETFROM:-0500
TZOFFSETTO:-0400
TZNAME:EDT
DTSTART:20240310T070000
END:DAYLIGHT
BEGIN:STANDARD
TZOFFSETFROM:-0400
TZOFFSETTO:-0500
TZNAME:EST
DTSTART:20241103T060000
END:STANDARD
BEGIN:DAYLIGHT
TZOFFSETFROM:-0500
TZOFFSETTO:-0400
TZNAME:EDT
DTSTART:20250309T070000
END:DAYLIGHT
BEGIN:STANDARD
TZOFFSETFROM:-0400
TZOFFSETTO:-0500
TZNAME:EST
DTSTART:20251102T060000
END:STANDARD
BEGIN:DAYLIGHT
TZOFFSETFROM:-0500
TZOFFSETTO:-0400
TZNAME:EDT
DTSTART:20260308T070000
END:DAYLIGHT
BEGIN:STANDARD
TZOFFSETFROM:-0400
TZOFFSETTO:-0500
TZNAME:EST
DTSTART:20261101T060000
END:STANDARD
END:VTIMEZONE
BEGIN:VEVENT
DTSTART;TZID=UTC:20251018T090000
DTEND;TZID=UTC:20251018T100000
DTSTAMP:20260420T154436
CREATED:20250929T163122Z
LAST-MODIFIED:20250929T163123Z
UID:13947-1760778000-1760781600@fallsoftheohio.org
SUMMARY:Yoga at the Falls Autumn Series
DESCRIPTION:Escape the hustle and bustle and join us for the Falls of the Ohio Foundation’s Autumn Yoga Series. \nEnjoy yoga on the deck this summer overlooking the majestic Falls of the Ohio with the Louisville skyline as your backdrop.  Led by experienced instructor Dre Smith\, our yoga summer series will foster a deep mind-body connection through ancient yoga practices\, promoting inner harmony and well-being.  \nDates: (Saturdays) May 10\, May 24\, June 7\, June 21\, September 6\, September 20\, October 4\, October 11   Classes are inclusive for all skill levels and are free to Foundation members.  Non-members are asked to make a donation.  Remember to bring your mat.  Please register by sending us an email at foundation@fallsoftheohio.org with your contact information and dates you plan to attend.  Classes will be moved inside the Interpretive Center in case of inclement weather.
URL:https://fallsoftheohio.org/our-event/yoga-at-the-falls-autumn-series/
LOCATION:Falls of the Ohio State Park\, 201 W. Riverside Drive\, Clarksville\, IN\, 47129\, United States
CATEGORIES:Foundation
ATTACH;FMTTYPE=image/jpeg:https://fallsoftheohio.org/wp-content/uploads/2025/04/Summer-Yoga-Series-2024-1-scaled.jpeg
ORGANIZER;CN="The Falls of the Ohio Foundation":MAILTO:candace.hilderbrand@fallsoftheohio.org
END:VEVENT
BEGIN:VEVENT
DTSTART;TZID=America/Indiana/Indianapolis:20251018T100000
DTEND;TZID=America/Indiana/Indianapolis:20251018T160000
DTSTAMP:20260420T154436
CREATED:20250929T134433Z
LAST-MODIFIED:20250929T134436Z
UID:13899-1760781600-1760803200@fallsoftheohio.org
SUMMARY:National Fossil Day at the Falls
DESCRIPTION:Celebrate National Fossil Day at the Falls of the Ohio State Park with a series of special fossil bed hikes\, reduced admission for the Interpretive Center – $7 for adults\, guides on the collecting piles\, children’s activities and more! \nThree special hikes: \n10 to 11:30 AM – Hike to the dam – look at the fossils in a part of the fossil bed that we rarely take visitors. \n1 to 2:30 PM – A really big fossil hike: Join the park naturalist as we seek out the biggest fossils on the fossil beds\, including a 50-foot-long branching coral\, 15-foot-wide honeycomb coral\, four-foot horn coral and more. \n3 PM – Fishing for fossils at Fisherman’s Point: Join the park naturalist as we explore the fossil beds at Fisherman’s Point. We’ll look for snails\, crinoids\, and look at some of the biggest corals on the fossil beds. Bring a deck broom and a bucket and help us expose some cool fossils. \nHands-on fossil-related activities and crafts will be held in the Interpretive Center rotunda and the picnic area.
URL:https://fallsoftheohio.org/our-event/national-fossil-day-at-the-falls/
LOCATION:Falls of the Ohio State Park\, 201 W. Riverside Drive\, Clarksville\, IN\, 47129\, United States
CATEGORIES:State Park
ATTACH;FMTTYPE=image/jpeg:https://fallsoftheohio.org/wp-content/uploads/2025/09/Fossil-bed-hike-NFD-1024.jpg
ORGANIZER;CN="Falls of the Ohio State Park":MAILTO:agoldstein@dnr.in.gov
END:VEVENT
END:VCALENDAR