BEGIN:VCALENDAR
VERSION:2.0
PRODID:-// - ECPv6.15.18//NONSGML v1.0//EN
CALSCALE:GREGORIAN
METHOD:PUBLISH
X-ORIGINAL-URL:https://fallsoftheohio.org
X-WR-CALDESC:Events for 
REFRESH-INTERVAL;VALUE=DURATION:PT1H
X-Robots-Tag:noindex
X-PUBLISHED-TTL:PT1H
BEGIN:VTIMEZONE
TZID:America/Indiana/Indianapolis
BEGIN:DAYLIGHT
TZOFFSETFROM:-0500
TZOFFSETTO:-0400
TZNAME:EDT
DTSTART:20240310T070000
END:DAYLIGHT
BEGIN:STANDARD
TZOFFSETFROM:-0400
TZOFFSETTO:-0500
TZNAME:EST
DTSTART:20241103T060000
END:STANDARD
BEGIN:DAYLIGHT
TZOFFSETFROM:-0500
TZOFFSETTO:-0400
TZNAME:EDT
DTSTART:20250309T070000
END:DAYLIGHT
BEGIN:STANDARD
TZOFFSETFROM:-0400
TZOFFSETTO:-0500
TZNAME:EST
DTSTART:20251102T060000
END:STANDARD
BEGIN:DAYLIGHT
TZOFFSETFROM:-0500
TZOFFSETTO:-0400
TZNAME:EDT
DTSTART:20260308T070000
END:DAYLIGHT
BEGIN:STANDARD
TZOFFSETFROM:-0400
TZOFFSETTO:-0500
TZNAME:EST
DTSTART:20261101T060000
END:STANDARD
END:VTIMEZONE
BEGIN:VEVENT
DTSTART;TZID=America/Indiana/Indianapolis:20251012T120000
DTEND;TZID=America/Indiana/Indianapolis:20251012T150000
DTSTAMP:20260420T122755
CREATED:20250724T140842Z
LAST-MODIFIED:20251010T181934Z
UID:12609-1760270400-1760281200@fallsoftheohio.org
SUMMARY:CANCELED: Experience the Outer Fossil Beds
DESCRIPTION:CANCELED: The water levels are too high near the dam to safely cross this weekend so the Oct. 12th Outer Fossil Bed Tour has been cancelled.  \nThe outer fossils are one of the world’s amazing excursions to see Devonian fossils in their natural “habitat.” We only offer this hike in the late summer and fall when the upper gates of the McAlpine Dam are closed. This 3-hour hike is moderately rugged on uneven limestone ledges and without shade\, so wear a hat. Use enclosed shoes and bring water. You will do a little wading; the worst is about two feet deep with a moderate current. We will explore the geology\, history\, and river dynamics & engineering of the dam and 1870 railroad bridge. Watch for birds and other wildlife. Meet at the Interpretive Center 15 minutes early to sign the waiver. The hike is for anyone over age 12.
URL:https://fallsoftheohio.org/our-event/experience-the-outer-fossil-beds/
LOCATION:Falls of the Ohio State Park\, 201 W. Riverside Drive\, Clarksville\, IN\, 47129\, United States
CATEGORIES:State Park
ATTACH;FMTTYPE=image/jpeg:https://fallsoftheohio.org/wp-content/uploads/2025/07/Outer-fossil-bed-hike-1024-1.jpg
ORGANIZER;CN="Falls of the Ohio State Park":MAILTO:agoldstein@dnr.in.gov
END:VEVENT
BEGIN:VEVENT
DTSTART;TZID=America/Indiana/Indianapolis:20251012T130000
DTEND;TZID=America/Indiana/Indianapolis:20251012T140000
DTSTAMP:20260420T122755
CREATED:20250807T133547Z
LAST-MODIFIED:20250807T133548Z
UID:12778-1760274000-1760277600@fallsoftheohio.org
SUMMARY:Fossil Bed Discovery Hike
DESCRIPTION:Discover the wonders of the fossil beds with a park naturalist. We will look at Devonian marine fossils and discuss how they lived\, what they ate\, how / why they were preserved. Hike lasts 60 minutes. Meet on deck. We walk down 60 steps to fossil beds and return via ramp. (Or use ramp if participants have problems with steps.) Please wear shoes suitable for walking on rocks.
URL:https://fallsoftheohio.org/our-event/fossil-bed-discovery-hike-62/
LOCATION:Falls of the Ohio State Park\, 201 W. Riverside Drive\, Clarksville\, IN\, 47129\, United States
CATEGORIES:State Park
ATTACH;FMTTYPE=image/jpeg:https://fallsoftheohio.org/wp-content/uploads/2025/08/Coral-beds-hike-1024.jpg
ORGANIZER;CN="Falls of the Ohio State Park":MAILTO:agoldstein@dnr.in.gov
END:VEVENT
END:VCALENDAR