BEGIN:VCALENDAR
VERSION:2.0
PRODID:-// - ECPv6.15.18//NONSGML v1.0//EN
CALSCALE:GREGORIAN
METHOD:PUBLISH
X-ORIGINAL-URL:https://fallsoftheohio.org
X-WR-CALDESC:Events for 
REFRESH-INTERVAL;VALUE=DURATION:PT1H
X-Robots-Tag:noindex
X-PUBLISHED-TTL:PT1H
BEGIN:VTIMEZONE
TZID:America/Indiana/Indianapolis
BEGIN:DAYLIGHT
TZOFFSETFROM:-0500
TZOFFSETTO:-0400
TZNAME:EDT
DTSTART:20240310T070000
END:DAYLIGHT
BEGIN:STANDARD
TZOFFSETFROM:-0400
TZOFFSETTO:-0500
TZNAME:EST
DTSTART:20241103T060000
END:STANDARD
BEGIN:DAYLIGHT
TZOFFSETFROM:-0500
TZOFFSETTO:-0400
TZNAME:EDT
DTSTART:20250309T070000
END:DAYLIGHT
BEGIN:STANDARD
TZOFFSETFROM:-0400
TZOFFSETTO:-0500
TZNAME:EST
DTSTART:20251102T060000
END:STANDARD
BEGIN:DAYLIGHT
TZOFFSETFROM:-0500
TZOFFSETTO:-0400
TZNAME:EDT
DTSTART:20260308T070000
END:DAYLIGHT
BEGIN:STANDARD
TZOFFSETFROM:-0400
TZOFFSETTO:-0500
TZNAME:EST
DTSTART:20261101T060000
END:STANDARD
END:VTIMEZONE
BEGIN:VTIMEZONE
TZID:UTC
BEGIN:STANDARD
TZOFFSETFROM:+0000
TZOFFSETTO:+0000
TZNAME:UTC
DTSTART:20240101T000000
END:STANDARD
END:VTIMEZONE
BEGIN:VEVENT
DTSTART;TZID=America/Indiana/Indianapolis:20250920T030000
DTEND;TZID=America/Indiana/Indianapolis:20250920T160000
DTSTAMP:20260419T145151
CREATED:20251010T181624Z
LAST-MODIFIED:20251010T181624Z
UID:12998-1758337200-1758384000@fallsoftheohio.org
SUMMARY:Extinctions of Distinction  - Paleontology Explorer
DESCRIPTION:What do paleontologists know about the causes of extinctions across geological time? Park paleontologist\, Alan Goldstein\, will discuss extinctions from volcanic activity\, mountain building\, asteroid impacts\, and other causes. An assortment of fossils will be used in the conversation
URL:https://fallsoftheohio.org/our-event/extinctions-of-distinction-paleontology-explorer/
LOCATION:Falls of the Ohio State Park\, 201 W. Riverside Drive\, Clarksville\, IN\, 47129\, United States
CATEGORIES:State Park
ATTACH;FMTTYPE=image/jpeg:https://fallsoftheohio.org/wp-content/uploads/2025/08/Devonian-sea-cropped-narrow-scaled.jpg
ORGANIZER;CN="Falls of the Ohio State Park":MAILTO:agoldstein@dnr.in.gov
END:VEVENT
BEGIN:VEVENT
DTSTART;TZID=UTC:20250920T090000
DTEND;TZID=UTC:20250920T100000
DTSTAMP:20260419T145151
CREATED:20250417T222207Z
LAST-MODIFIED:20250417T222208Z
UID:11267-1758358800-1758362400@fallsoftheohio.org
SUMMARY:Yoga at the Falls Summer Series
DESCRIPTION:Escape the hustle and bustle and join us for the Falls of the Ohio Foundation’s Summer Yoga Series. \nEnjoy yoga on the deck this summer overlooking the majestic Falls of the Ohio with the Louisville skyline as your backdrop.  Led by experienced instructor Dre Smith\, our yoga summer series will foster a deep mind-body connection through ancient yoga practices\, promoting inner harmony and well-being.  \nDates: (Saturdays) May 10\, May 24\, June 7\, June 21\, September 6\, September 20\, October 4\, October 11   Classes are inclusive for all skill levels and are free to Foundation members.  Non-members are asked to make a donation.  Remember to bring your mat.  Please register by sending us an email at foundation@fallsoftheohio.org with your contact information and dates you plan to attend.  Classes will be moved inside the Interpretive Center in case of inclement weather.
URL:https://fallsoftheohio.org/our-event/yoga-at-the-falls-summer-series-6/
LOCATION:Falls of the Ohio State Park\, 201 W. Riverside Drive\, Clarksville\, IN\, 47129\, United States
CATEGORIES:Foundation
ATTACH;FMTTYPE=image/jpeg:https://fallsoftheohio.org/wp-content/uploads/2025/04/Summer-Yoga-Series-2024-1-scaled.jpeg
ORGANIZER;CN="The Falls of the Ohio Foundation":MAILTO:candace.hilderbrand@fallsoftheohio.org
END:VEVENT
BEGIN:VEVENT
DTSTART;TZID=America/Indiana/Indianapolis:20250920T130000
DTEND;TZID=America/Indiana/Indianapolis:20250920T140000
DTSTAMP:20260419T145151
CREATED:20250807T133059Z
LAST-MODIFIED:20250807T133101Z
UID:12763-1758373200-1758376800@fallsoftheohio.org
SUMMARY:Fossil Bed Discovery Hike
DESCRIPTION:Discover the wonders of the fossil beds with a park naturalist. We will look at Devonian marine fossils and discuss how they lived\, what they ate\, how / why they were preserved. Hike lasts 60 minutes. Meet on deck. We walk down 60 steps to fossil beds and return via ramp. (Or use ramp if participants have problems with steps.) Please wear shoes suitable for walking on rocks.
URL:https://fallsoftheohio.org/our-event/fossil-bed-discovery-hike-55/
LOCATION:Falls of the Ohio State Park\, 201 W. Riverside Drive\, Clarksville\, IN\, 47129\, United States
CATEGORIES:State Park
ATTACH;FMTTYPE=image/jpeg:https://fallsoftheohio.org/wp-content/uploads/2025/08/Coral-beds-hike-1024.jpg
ORGANIZER;CN="Falls of the Ohio State Park":MAILTO:agoldstein@dnr.in.gov
END:VEVENT
END:VCALENDAR